BEGIN:VCALENDAR
VERSION:2.0
METHOD:PUBLISH
PRODID:-//ActiveDataExchange/NEXTGEN V1//EN
BEGIN:VEVENT
ORGANIZER:mailto:chatmana@ritenourschools.org
DTSTART:20260424T230000Z
DTEND:20260425T010000Z
DTSTAMP:20260419T132253Z
LOCATION:Costilow Field House,Costilow Field House Foyer
SUMMARY:8th Grade Mixer
DESCRIPTION:RMS and HMS 8th Grade Mixer\nView the full event details here: https://eventpublisher.dudesolutions.com/ritenour/event/8th-grade-mixer-6/
CATEGORIES:1-School Event
CONTACT:Angela Chatman,chatmana@ritenourschools.org,3144936257
CLASS:PUBLIC
UID:80A5E4E4-C753-4009-A0F7-275704C5A2D1
BEGIN:VALARM
TRIGGER:-PT15M
ACTION:DISPLAY
DESCRIPTION:8th Grade Mixer
END:VALARM
END:VEVENT
END:VCALENDAR
