BEGIN:VCALENDAR
VERSION:2.0
METHOD:PUBLISH
PRODID:-//ActiveDataExchange/NEXTGEN V1//EN
BEGIN:VEVENT
ORGANIZER:mailto:strongk@ritenourschools.org
DTSTART:20260422T180000Z
DTEND:20260422T200000Z
DTSTAMP:20260419T132253Z
LOCATION:Costilow Field House,Costilow Field House Balcony,Costilow Field House Foyer
SUMMARY:Assembly (EOC, Attendance, GPA)
DESCRIPTION:Assembly for pre EOC and Attendance/GPA Awards\nView the full event details here: https://eventpublisher.dudesolutions.com/ritenour/event/assembly-eoc-attendance-gpa-2/
CATEGORIES:1-School Event
CONTACT:Keaton Strong,strongk@ritenourschools.org,314-494-5160
CLASS:PUBLIC
UID:4D2B2311-891C-45B4-A47A-7D9479825333
BEGIN:VALARM
TRIGGER:-PT15M
ACTION:DISPLAY
DESCRIPTION:Assembly (EOC, Attendance, GPA)
END:VALARM
END:VEVENT
END:VCALENDAR
