BEGIN:VCALENDAR
VERSION:2.0
METHOD:PUBLISH
PRODID:-//ActiveDataExchange/NEXTGEN V1//EN
BEGIN:VEVENT
ORGANIZER:mailto:lohnesd@ritenourschools.org
DTSTART:20260422T211500Z
DTEND:20260422T224500Z
DTSTAMP:20260419T132250Z
LOCATION:Engert Field
SUMMARY:Baseball, Boys Junior Varsity
DESCRIPTION:Baseball, Boys Junior Varsity\nView the full event details here: https://eventpublisher.dudesolutions.com/ritenour/event/baseball-boys-junior-varsity-101/
CATEGORIES:1-Athletics
CONTACT:Drew Lohnes,lohnesd@ritenourschools.org,314-493-6139
CLASS:PUBLIC
UID:17C94EB9-4227-4A68-A747-0738FE9A3107
BEGIN:VALARM
TRIGGER:-PT15M
ACTION:DISPLAY
DESCRIPTION:Baseball, Boys Junior Varsity
END:VALARM
END:VEVENT
END:VCALENDAR
