BEGIN:VCALENDAR
VERSION:2.0
METHOD:PUBLISH
PRODID:-//ActiveDataExchange/NEXTGEN V1//EN
BEGIN:VEVENT
ORGANIZER:mailto:lohnesd@ritenourschools.org
DTSTART:20260505T211500Z
DTEND:20260505T224500Z
DTSTAMP:20260419T132242Z
LOCATION:Engert Field
SUMMARY:Cancelled - Baseball, Boys Junior Varsity
DESCRIPTION:Baseball, Boys Junior Varsity\nView the full event details here: https://eventpublisher.dudesolutions.com/ritenour/event/baseball-boys-junior-varsity-102/
CATEGORIES:1-Athletics
CONTACT:Drew Lohnes,lohnesd@ritenourschools.org,314-493-6139
CLASS:PUBLIC
UID:3E39DA7C-32AE-4E2C-BC91-1921F601D7C2
BEGIN:VALARM
TRIGGER:-PT15M
ACTION:DISPLAY
DESCRIPTION:Cancelled - Baseball, Boys Junior Varsity
END:VALARM
END:VEVENT
END:VCALENDAR
