BEGIN:VCALENDAR
VERSION:2.0
METHOD:PUBLISH
PRODID:-//ActiveDataExchange/NEXTGEN V1//EN
BEGIN:VEVENT
ORGANIZER:mailto:lohnesd@ritenourschools.org
DTSTART:20260505T211500Z
DTEND:20260505T224500Z
DTSTAMP:20260419T132342Z
LOCATION:Engert Field
SUMMARY:Baseball, Boys Junior Varsity
DESCRIPTION:Baseball, Boys Junior Varsity\nView the full event details here: https://eventpublisher.dudesolutions.com/ritenour/event/baseball-boys-junior-varsity-106/
CATEGORIES:1-Athletics
CONTACT:William Buchanan,lohnesd@ritenourschools.org
CLASS:PUBLIC
UID:E6CD3436-A3FB-4975-AD93-96F8998B190F
BEGIN:VALARM
TRIGGER:-PT15M
ACTION:DISPLAY
DESCRIPTION:Baseball, Boys Junior Varsity
END:VALARM
END:VEVENT
END:VCALENDAR
