BEGIN:VCALENDAR
VERSION:2.0
METHOD:PUBLISH
PRODID:-//ActiveDataExchange/NEXTGEN V1//EN
BEGIN:VEVENT
ORGANIZER:mailto:lohnesd@ritenourschools.org
DTSTART:20260421T211500Z
DTEND:20260421T224500Z
DTSTAMP:20260419T132241Z
LOCATION:Engert Field
SUMMARY:Baseball, Boys Varsity
DESCRIPTION:Baseball, Boys Varsity\nView the full event details here: https://eventpublisher.dudesolutions.com/ritenour/event/baseball-boys-varsity-118/
CATEGORIES:1-Athletics
CONTACT:Drew Lohnes,lohnesd@ritenourschools.org,314-493-6139
CLASS:PUBLIC
UID:5D752ADE-0674-4215-B420-27DD6B520C06
BEGIN:VALARM
TRIGGER:-PT15M
ACTION:DISPLAY
DESCRIPTION:Baseball, Boys Varsity
END:VALARM
END:VEVENT
END:VCALENDAR
