BEGIN:VCALENDAR
VERSION:2.0
METHOD:PUBLISH
PRODID:-//ActiveDataExchange/NEXTGEN V1//EN
BEGIN:VEVENT
ORGANIZER:mailto:lohnesd@ritenourschools.org
DTSTART:20260506T211500Z
DTEND:20260506T224500Z
DTSTAMP:20260419T132247Z
LOCATION:Engert Field
SUMMARY:Cancelled - Baseball, Boys Varsity
DESCRIPTION:Baseball, Boys Varsity\nView the full event details here: https://eventpublisher.dudesolutions.com/ritenour/event/baseball-boys-varsity-119/
CATEGORIES:1-Athletics
CONTACT:Drew Lohnes,lohnesd@ritenourschools.org,314-493-6139
CLASS:PUBLIC
UID:79CC118E-0E8B-416C-B17F-B840C7A96739
BEGIN:VALARM
TRIGGER:-PT15M
ACTION:DISPLAY
DESCRIPTION:Cancelled - Baseball, Boys Varsity
END:VALARM
END:VEVENT
END:VCALENDAR
