BEGIN:VCALENDAR
VERSION:2.0
METHOD:PUBLISH
PRODID:-//ActiveDataExchange/NEXTGEN V1//EN
BEGIN:VEVENT
ORGANIZER:mailto:lohnesd@ritenourschools.org
DTSTART:20260506T211500Z
DTEND:20260506T224500Z
DTSTAMP:20260419T132241Z
LOCATION:Engert Field
SUMMARY:Baseball, Boys Varsity
DESCRIPTION:Baseball, Boys Varsity\nView the full event details here: https://eventpublisher.dudesolutions.com/ritenour/event/baseball-boys-varsity-126/
CATEGORIES:1-Athletics
CONTACT:William Buchanan,lohnesd@ritenourschools.org
CLASS:PUBLIC
UID:96F38C22-CDA5-4638-B1C3-44F94F44D4FC
BEGIN:VALARM
TRIGGER:-PT15M
ACTION:DISPLAY
DESCRIPTION:Baseball, Boys Varsity
END:VALARM
END:VEVENT
END:VCALENDAR
