BEGIN:VCALENDAR
VERSION:2.0
METHOD:PUBLISH
PRODID:-//ActiveDataExchange/NEXTGEN V1//EN
BEGIN:VEVENT
ORGANIZER:mailto:lohnesd@ritenourschools.org
DTSTART:20260512T211500Z
DTEND:20260512T224500Z
DTSTAMP:20260419T132253Z
LOCATION:Engert Field
SUMMARY:Baseball, Boys Varsity
DESCRIPTION:Baseball, Boys Varsity\nView the full event details here: https://eventpublisher.dudesolutions.com/ritenour/event/baseball-boys-varsity-128/
CATEGORIES:1-Athletics
CONTACT:William Buchanan,lohnesd@ritenourschools.org
CLASS:PUBLIC
UID:0C25B762-7D9F-4DAB-AEEF-CBD3114DC58F
BEGIN:VALARM
TRIGGER:-PT15M
ACTION:DISPLAY
DESCRIPTION:Baseball, Boys Varsity
END:VALARM
END:VEVENT
END:VCALENDAR
