BEGIN:VCALENDAR
VERSION:2.0
METHOD:PUBLISH
PRODID:-//ActiveDataExchange/NEXTGEN V1//EN
BEGIN:VEVENT
ORGANIZER:mailto:lohnesd@ritenourschools.org
DTSTART:20260511T211500Z
DTEND:20260511T224500Z
DTSTAMP:20260419T132249Z
LOCATION:Engert Field
SUMMARY:Baseball, Boys Varsity
DESCRIPTION:Baseball, Boys Varsity\nView the full event details here: https://eventpublisher.dudesolutions.com/ritenour/event/baseball-boys-varsity-138/
CATEGORIES:1-Athletics
CONTACT:Drew Lohnes,lohnesd@ritenourschools.org
CLASS:PUBLIC
UID:9335A3BD-5D90-428D-9E8E-41D847305A79
BEGIN:VALARM
TRIGGER:-PT15M
ACTION:DISPLAY
DESCRIPTION:Baseball, Boys Varsity
END:VALARM
END:VEVENT
END:VCALENDAR
