BEGIN:VCALENDAR
VERSION:2.0
METHOD:PUBLISH
PRODID:-//ActiveDataExchange/NEXTGEN V1//EN
BEGIN:VEVENT
ORGANIZER:mailto:leeg@ritenourschools.org
DTSTART:20260429T230000Z
DTEND:20260430T010000Z
DTSTAMP:20260419T132522Z
LOCATION:Costilow Field House
SUMMARY:Boys Basketball
DESCRIPTION:Practice/training\nView the full event details here: https://eventpublisher.dudesolutions.com/ritenour/event/boys-basketball-531/
CATEGORIES:1-Athletics
CONTACT:George Lee,leeg@ritenourschools.org,3144895216
CLASS:PUBLIC
UID:6BEF95D5-FA7F-4140-B3B8-04F72257E77D
BEGIN:VALARM
TRIGGER:-PT15M
ACTION:DISPLAY
DESCRIPTION:Boys Basketball
END:VALARM
END:VEVENT
END:VCALENDAR
