BEGIN:VCALENDAR
VERSION:2.0
METHOD:PUBLISH
PRODID:-//ActiveDataExchange/NEXTGEN V1//EN
BEGIN:VEVENT
ORGANIZER:mailto:leeg@ritenourschools.org
DTSTART:20260430T230000Z
DTEND:20260501T010000Z
DTSTAMP:20260419T132347Z
LOCATION:Costilow Field House
SUMMARY:Boys Basketball
DESCRIPTION:Practice/training\nView the full event details here: https://eventpublisher.dudesolutions.com/ritenour/event/boys-basketball-532/
CATEGORIES:1-Athletics
CONTACT:George Lee,leeg@ritenourschools.org,3144895216
CLASS:PUBLIC
UID:5C89FB49-F9D9-47D6-9530-8F14AC1AFB8C
BEGIN:VALARM
TRIGGER:-PT15M
ACTION:DISPLAY
DESCRIPTION:Boys Basketball
END:VALARM
END:VEVENT
END:VCALENDAR
