BEGIN:VCALENDAR
VERSION:2.0
METHOD:PUBLISH
PRODID:-//ActiveDataExchange/NEXTGEN V1//EN
BEGIN:VEVENT
ORGANIZER:mailto:leeg@ritenourschools.org
DTSTART:20260502T230000Z
DTEND:20260503T010000Z
DTSTAMP:20260419T132347Z
LOCATION:Costilow Field House
SUMMARY:Boys Basketball
DESCRIPTION:Practice/training\nView the full event details here: https://eventpublisher.dudesolutions.com/ritenour/event/boys-basketball-534/
CATEGORIES:1-Athletics
CONTACT:George Lee,leeg@ritenourschools.org,3144895216
CLASS:PUBLIC
UID:F2DF61CA-460C-4B1B-9D6A-0A8E0949C999
BEGIN:VALARM
TRIGGER:-PT15M
ACTION:DISPLAY
DESCRIPTION:Boys Basketball
END:VALARM
END:VEVENT
END:VCALENDAR
