BEGIN:VCALENDAR
VERSION:2.0
METHOD:PUBLISH
PRODID:-//ActiveDataExchange/NEXTGEN V1//EN
BEGIN:VEVENT
ORGANIZER:mailto:leeg@ritenourschools.org
DTSTART:20260503T230000Z
DTEND:20260504T010000Z
DTSTAMP:20260419T132521Z
LOCATION:Costilow Field House
SUMMARY:Boys Basketball
DESCRIPTION:Practice/training\nView the full event details here: https://eventpublisher.dudesolutions.com/ritenour/event/boys-basketball-536/
CATEGORIES:1-Athletics
CONTACT:George Lee,leeg@ritenourschools.org,3144895216
CLASS:PUBLIC
UID:BEA6639D-68AE-456D-BB19-CB2E816AF4DC
BEGIN:VALARM
TRIGGER:-PT15M
ACTION:DISPLAY
DESCRIPTION:Boys Basketball
END:VALARM
END:VEVENT
END:VCALENDAR
