BEGIN:VCALENDAR
VERSION:2.0
METHOD:PUBLISH
PRODID:-//ActiveDataExchange/NEXTGEN V1//EN
BEGIN:VEVENT
ORGANIZER:mailto:leeg@ritenourschools.org
DTSTART:20260419T150000Z
DTEND:20260419T200000Z
DTSTAMP:20260419T132521Z
LOCATION:Costilow Field House
SUMMARY:Boys Basketball
DESCRIPTION:CNR League\nView the full event details here: https://eventpublisher.dudesolutions.com/ritenour/event/boys-basketball-579/
CATEGORIES:1-Athletics
CONTACT:George Lee,leeg@ritenourschools.org,314-489-5216
CLASS:PUBLIC
UID:D207CE84-7E39-487B-A288-26C224A080FB
BEGIN:VALARM
TRIGGER:-PT15M
ACTION:DISPLAY
DESCRIPTION:Boys Basketball
END:VALARM
END:VEVENT
END:VCALENDAR
