BEGIN:VCALENDAR
VERSION:2.0
METHOD:PUBLISH
PRODID:-//ActiveDataExchange/NEXTGEN V1//EN
BEGIN:VEVENT
ORGANIZER:mailto:leeg@ritenourschools.org
DTSTART:20260425T150000Z
DTEND:20260425T200000Z
DTSTAMP:20260419T132615Z
LOCATION:Costilow Field House
SUMMARY:Boys Basketball
DESCRIPTION:CNR League\nView the full event details here: https://eventpublisher.dudesolutions.com/ritenour/event/boys-basketball-580/
CATEGORIES:1-Athletics
CONTACT:George Lee,leeg@ritenourschools.org,314-489-5216
CLASS:PUBLIC
UID:90AC2807-E74F-48B3-B38C-3341507EB084
BEGIN:VALARM
TRIGGER:-PT15M
ACTION:DISPLAY
DESCRIPTION:Boys Basketball
END:VALARM
END:VEVENT
END:VCALENDAR
