BEGIN:VCALENDAR
VERSION:2.0
METHOD:PUBLISH
PRODID:-//ActiveDataExchange/NEXTGEN V1//EN
BEGIN:VEVENT
ORGANIZER:mailto:leeg@ritenourschools.org
DTSTART:20260426T150000Z
DTEND:20260426T200000Z
DTSTAMP:20260419T132431Z
LOCATION:Costilow Field House
SUMMARY:Boys Basketball
DESCRIPTION:CNR League\nView the full event details here: https://eventpublisher.dudesolutions.com/ritenour/event/boys-basketball-581/
CATEGORIES:1-Athletics
CONTACT:George Lee,leeg@ritenourschools.org,314-489-5216
CLASS:PUBLIC
UID:0A8D145D-A7CD-4E40-A7CB-3C9AC535E53D
BEGIN:VALARM
TRIGGER:-PT15M
ACTION:DISPLAY
DESCRIPTION:Boys Basketball
END:VALARM
END:VEVENT
END:VCALENDAR
