BEGIN:VCALENDAR
VERSION:2.0
METHOD:PUBLISH
PRODID:-//ActiveDataExchange/NEXTGEN V1//EN
BEGIN:VEVENT
ORGANIZER:mailto:leeg@ritenourschools.org
DTSTART:20260503T150000Z
DTEND:20260503T200000Z
DTSTAMP:20260419T132348Z
LOCATION:Costilow Field House
SUMMARY:Boys Basketball
DESCRIPTION:CNR League\nView the full event details here: https://eventpublisher.dudesolutions.com/ritenour/event/boys-basketball-583/
CATEGORIES:1-Athletics
CONTACT:George Lee,leeg@ritenourschools.org,314-489-5216
CLASS:PUBLIC
UID:CE1858B2-624C-48C1-8D2F-01AC8971B96C
BEGIN:VALARM
TRIGGER:-PT15M
ACTION:DISPLAY
DESCRIPTION:Boys Basketball
END:VALARM
END:VEVENT
END:VCALENDAR
