BEGIN:VCALENDAR
VERSION:2.0
METHOD:PUBLISH
PRODID:-//ActiveDataExchange/NEXTGEN V1//EN
BEGIN:VEVENT
ORGANIZER:mailto:leeg@ritenourschools.org
DTSTART:20260510T150000Z
DTEND:20260510T200000Z
DTSTAMP:20260419T132513Z
LOCATION:Costilow Field House
SUMMARY:Boys Basketball
DESCRIPTION:CNR League\nView the full event details here: https://eventpublisher.dudesolutions.com/ritenour/event/boys-basketball-585/
CATEGORIES:1-Athletics
CONTACT:George Lee,leeg@ritenourschools.org,314-489-5216
CLASS:PUBLIC
UID:548121C5-D64C-4EF3-ADF6-186AB108CDEB
BEGIN:VALARM
TRIGGER:-PT15M
ACTION:DISPLAY
DESCRIPTION:Boys Basketball
END:VALARM
END:VEVENT
END:VCALENDAR
