BEGIN:VCALENDAR
VERSION:2.0
METHOD:PUBLISH
PRODID:-//ActiveDataExchange/NEXTGEN V1//EN
BEGIN:VEVENT
ORGANIZER:mailto:leeg@ritenourschools.org
DTSTART:20260423T230000Z
DTEND:20260424T010000Z
DTSTAMP:20260419T132513Z
LOCATION:Costilow Field House
SUMMARY:Cancelled - Boys Basketball
DESCRIPTION:Practice/training\nView the full event details here: https://eventpublisher.dudesolutions.com/ritenour/event/boys-basketball-642/
CATEGORIES:1-Athletics
CONTACT:George Lee,leeg@ritenourschools.org,3144895216
CLASS:PUBLIC
UID:06364B7D-8379-429F-9874-E52CE968FD29
BEGIN:VALARM
TRIGGER:-PT15M
ACTION:DISPLAY
DESCRIPTION:Cancelled - Boys Basketball
END:VALARM
END:VEVENT
END:VCALENDAR
