BEGIN:VCALENDAR
VERSION:2.0
METHOD:PUBLISH
PRODID:-//ActiveDataExchange/NEXTGEN V1//EN
BEGIN:VEVENT
ORGANIZER:mailto:leeg@ritenourschools.org
DTSTART:20260428T230000Z
DTEND:20260429T010000Z
DTSTAMP:20260419T132513Z
LOCATION:Costilow Field House
SUMMARY:Cancelled - Boys Basketball
DESCRIPTION:Practice/training\nView the full event details here: https://eventpublisher.dudesolutions.com/ritenour/event/boys-basketball-647/
CATEGORIES:1-Athletics
CONTACT:George Lee,leeg@ritenourschools.org,3144895216
CLASS:PUBLIC
UID:CF78D904-BA76-4EA8-94D8-4ED8BF357E0B
BEGIN:VALARM
TRIGGER:-PT15M
ACTION:DISPLAY
DESCRIPTION:Cancelled - Boys Basketball
END:VALARM
END:VEVENT
END:VCALENDAR
