BEGIN:VCALENDAR
VERSION:2.0
METHOD:PUBLISH
PRODID:-//ActiveDataExchange/NEXTGEN V1//EN
BEGIN:VEVENT
ORGANIZER:mailto:leeg@ritenourschools.org
DTSTART:20260501T230000Z
DTEND:20260502T010000Z
DTSTAMP:20260419T132432Z
LOCATION:Costilow Field House
SUMMARY:Cancelled - Boys Basketball
DESCRIPTION:Practice/training\nView the full event details here: https://eventpublisher.dudesolutions.com/ritenour/event/boys-basketball-650/
CATEGORIES:1-Athletics
CONTACT:George Lee,leeg@ritenourschools.org,3144895216
CLASS:PUBLIC
UID:8C6B671B-88F5-43A6-9496-037A7A940FD1
BEGIN:VALARM
TRIGGER:-PT15M
ACTION:DISPLAY
DESCRIPTION:Cancelled - Boys Basketball
END:VALARM
END:VEVENT
END:VCALENDAR
