BEGIN:VCALENDAR
VERSION:2.0
METHOD:PUBLISH
PRODID:-//ActiveDataExchange/NEXTGEN V1//EN
BEGIN:VEVENT
ORGANIZER:mailto:leeg@ritenourschools.org
DTSTART:20260507T230000Z
DTEND:20260508T010000Z
DTSTAMP:20260419T132341Z
LOCATION:Costilow Field House
SUMMARY:Cancelled - Boys Basketball
DESCRIPTION:Practice/training\nView the full event details here: https://eventpublisher.dudesolutions.com/ritenour/event/boys-basketball-656/
CATEGORIES:1-Athletics
CONTACT:George Lee,leeg@ritenourschools.org,3144895216
CLASS:PUBLIC
UID:0929A4B5-0C29-44E5-8B68-EE7B7B5D5320
BEGIN:VALARM
TRIGGER:-PT15M
ACTION:DISPLAY
DESCRIPTION:Cancelled - Boys Basketball
END:VALARM
END:VEVENT
END:VCALENDAR
