BEGIN:VCALENDAR
VERSION:2.0
METHOD:PUBLISH
PRODID:-//ActiveDataExchange/NEXTGEN V1//EN
BEGIN:VEVENT
ORGANIZER:mailto:leeg@ritenourschools.org
DTSTART:20260511T230000Z
DTEND:20260512T010000Z
DTSTAMP:20260419T132348Z
LOCATION:Costilow Field House
SUMMARY:Cancelled - Boys Basketball
DESCRIPTION:Practice/training\nView the full event details here: https://eventpublisher.dudesolutions.com/ritenour/event/boys-basketball-660/
CATEGORIES:1-Athletics
CONTACT:George Lee,leeg@ritenourschools.org,3144895216
CLASS:PUBLIC
UID:F4EB28D2-16A7-42EF-BDD2-6768E5BEB82A
BEGIN:VALARM
TRIGGER:-PT15M
ACTION:DISPLAY
DESCRIPTION:Cancelled - Boys Basketball
END:VALARM
END:VEVENT
END:VCALENDAR
