BEGIN:VCALENDAR
VERSION:2.0
METHOD:PUBLISH
PRODID:-//ActiveDataExchange/NEXTGEN V1//EN
BEGIN:VEVENT
DTSTART:20260419T213000Z
DTEND:20260419T233000Z
DTSTAMP:20260419T132804Z
LOCATION:Costilow Field House
SUMMARY:Girls Volleyball - OPEN GYM
DESCRIPTION:Girls Volleyball - OPEN GYM\nView the full event details here: https://eventpublisher.dudesolutions.com/ritenour/event/girls-volleyball---open-gym-3/
CATEGORIES:1-Athletics
CONTACT:Ellen Kim
CLASS:PUBLIC
UID:5EA499F7-C14F-4398-90C8-677271F5FE24
BEGIN:VALARM
TRIGGER:-PT15M
ACTION:DISPLAY
DESCRIPTION:Girls Volleyball - OPEN GYM
END:VALARM
END:VEVENT
END:VCALENDAR
