BEGIN:VCALENDAR
VERSION:2.0
METHOD:PUBLISH
PRODID:-//ActiveDataExchange/NEXTGEN V1//EN
BEGIN:VEVENT
DTSTART:20260501T230000Z
DTEND:20260502T010000Z
DTSTAMP:20260419T132803Z
LOCATION:Costilow Field House
SUMMARY:Girls Volleyball - OPEN GYM
DESCRIPTION:Girls Volleyball - OPEN GYM\nView the full event details here: https://eventpublisher.dudesolutions.com/ritenour/event/girls-volleyball---open-gym-4/
CATEGORIES:1-Athletics
CONTACT:Ellen Kim
CLASS:PUBLIC
UID:E394A2B8-E83A-4452-A7D9-4DC5A2B8C04E
BEGIN:VALARM
TRIGGER:-PT15M
ACTION:DISPLAY
DESCRIPTION:Girls Volleyball - OPEN GYM
END:VALARM
END:VEVENT
END:VCALENDAR
