BEGIN:VCALENDAR
VERSION:2.0
METHOD:PUBLISH
PRODID:-//ActiveDataExchange/NEXTGEN V1//EN
BEGIN:VEVENT
DTSTART:20260503T213000Z
DTEND:20260503T233000Z
DTSTAMP:20260419T132814Z
LOCATION:Costilow Field House
SUMMARY:Girls Volleyball - OPEN GYM
DESCRIPTION:Girls Volleyball - OPEN GYM\nView the full event details here: https://eventpublisher.dudesolutions.com/ritenour/event/girls-volleyball---open-gym-5/
CATEGORIES:1-Athletics
CONTACT:Ellen Kim
CLASS:PUBLIC
UID:FA59FB96-470F-4821-B179-E89D481D5707
BEGIN:VALARM
TRIGGER:-PT15M
ACTION:DISPLAY
DESCRIPTION:Girls Volleyball - OPEN GYM
END:VALARM
END:VEVENT
END:VCALENDAR
