BEGIN:VCALENDAR
VERSION:2.0
METHOD:PUBLISH
PRODID:-//ActiveDataExchange/NEXTGEN V1//EN
BEGIN:VEVENT
DTSTART:20260508T230000Z
DTEND:20260509T010000Z
DTSTAMP:20260419T132814Z
LOCATION:Costilow Field House
SUMMARY:Girls Volleyball - OPEN GYM
DESCRIPTION:Girls Volleyball - OPEN GYM\nView the full event details here: https://eventpublisher.dudesolutions.com/ritenour/event/girls-volleyball---open-gym-6/
CATEGORIES:1-Athletics
CONTACT:Ellen Kim
CLASS:PUBLIC
UID:B95A63F3-6342-46D8-910D-AD8AE1408FFE
BEGIN:VALARM
TRIGGER:-PT15M
ACTION:DISPLAY
DESCRIPTION:Girls Volleyball - OPEN GYM
END:VALARM
END:VEVENT
END:VCALENDAR
