BEGIN:VCALENDAR
VERSION:2.0
METHOD:PUBLISH
PRODID:-//ActiveDataExchange/NEXTGEN V1//EN
BEGIN:VEVENT
DTSTART:20260515T230000Z
DTEND:20260516T010000Z
DTSTAMP:20260419T132803Z
LOCATION:Costilow Field House
SUMMARY:Girls Volleyball - OPEN GYM
DESCRIPTION:Girls Volleyball - OPEN GYM\nView the full event details here: https://eventpublisher.dudesolutions.com/ritenour/event/girls-volleyball---open-gym-7/
CATEGORIES:1-Athletics
CONTACT:Ellen Kim
CLASS:PUBLIC
UID:53641D9B-22E0-4172-9F0C-9B405545FC8C
BEGIN:VALARM
TRIGGER:-PT15M
ACTION:DISPLAY
DESCRIPTION:Girls Volleyball - OPEN GYM
END:VALARM
END:VEVENT
END:VCALENDAR
