BEGIN:VCALENDAR
VERSION:2.0
METHOD:PUBLISH
PRODID:-//ActiveDataExchange/NEXTGEN V1//EN
BEGIN:VEVENT
ORGANIZER:mailto:Laskowskil@RitenourSchools.org
DTSTART:20260420T230000Z
DTEND:20260421T010000Z
DTSTAMP:20260419T132749Z
LOCATION:North Gym
SUMMARY:RWC Club Wrestling
DESCRIPTION:Must have AAU/USA Membership Card\nView the full event details here: https://eventpublisher.dudesolutions.com/ritenour/event/rwc-club-wrestling-174/
CATEGORIES:1-Athletics
CONTACT:Lee Laskowski,Laskowskil@RitenourSchools.org,5732681566
CLASS:PUBLIC
UID:CB14B388-DBCC-4522-88E7-1EA2CB02E5AD
BEGIN:VALARM
TRIGGER:-PT15M
ACTION:DISPLAY
DESCRIPTION:RWC Club Wrestling
END:VALARM
END:VEVENT
END:VCALENDAR
