BEGIN:VCALENDAR
VERSION:2.0
METHOD:PUBLISH
PRODID:-//ActiveDataExchange/NEXTGEN V1//EN
BEGIN:VEVENT
ORGANIZER:mailto:Laskowskil@RitenourSchools.org
DTSTART:20260430T230000Z
DTEND:20260501T010000Z
DTSTAMP:20260419T132749Z
LOCATION:North Gym
SUMMARY:RWC Club Wrestling
DESCRIPTION:Must have AAU/USA Membership Card\nView the full event details here: https://eventpublisher.dudesolutions.com/ritenour/event/rwc-club-wrestling-177/
CATEGORIES:1-Athletics
CONTACT:Lee Laskowski,Laskowskil@RitenourSchools.org,5732681566
CLASS:PUBLIC
UID:6984E0AB-0974-467F-9B6A-A120B25A9C7C
BEGIN:VALARM
TRIGGER:-PT15M
ACTION:DISPLAY
DESCRIPTION:RWC Club Wrestling
END:VALARM
END:VEVENT
END:VCALENDAR
