BEGIN:VCALENDAR
VERSION:2.0
METHOD:PUBLISH
PRODID:-//ActiveDataExchange/NEXTGEN V1//EN
BEGIN:VEVENT
ORGANIZER:mailto:Laskowskil@RitenourSchools.org
DTSTART:20260511T230000Z
DTEND:20260512T010000Z
DTSTAMP:20260419T132804Z
LOCATION:North Gym
SUMMARY:RWC Club Wrestling
DESCRIPTION:Must have AAU/USA Membership Card\nView the full event details here: https://eventpublisher.dudesolutions.com/ritenour/event/rwc-club-wrestling-180/
CATEGORIES:1-Athletics
CONTACT:Lee Laskowski,Laskowskil@RitenourSchools.org,5732681566
CLASS:PUBLIC
UID:F05E8889-CC01-4BDC-9598-7D1281182AD4
BEGIN:VALARM
TRIGGER:-PT15M
ACTION:DISPLAY
DESCRIPTION:RWC Club Wrestling
END:VALARM
END:VEVENT
END:VCALENDAR
