BEGIN:VCALENDAR
VERSION:2.0
METHOD:PUBLISH
PRODID:-//ActiveDataExchange/NEXTGEN V1//EN
BEGIN:VEVENT
ORGANIZER:mailto:Laskowskil@RitenourSchools.org
DTSTART:20260518T230000Z
DTEND:20260519T010000Z
DTSTAMP:20260419T132749Z
LOCATION:North Gym
SUMMARY:RWC Club Wrestling
DESCRIPTION:Must have AAU/USA Membership Card\nView the full event details here: https://eventpublisher.dudesolutions.com/ritenour/event/rwc-club-wrestling-182/
CATEGORIES:1-Athletics
CONTACT:Lee Laskowski,Laskowskil@RitenourSchools.org,5732681566
CLASS:PUBLIC
UID:C6CC6432-8717-4681-A67A-920FFBC6399F
BEGIN:VALARM
TRIGGER:-PT15M
ACTION:DISPLAY
DESCRIPTION:RWC Club Wrestling
END:VALARM
END:VEVENT
END:VCALENDAR
