BEGIN:VCALENDAR
VERSION:2.0
METHOD:PUBLISH
PRODID:-//ActiveDataExchange/NEXTGEN V1//EN
BEGIN:VEVENT
ORGANIZER:mailto:lohnesd@ritenourschools.org
DTSTART:20260428T224500Z
DTEND:20260428T234500Z
DTSTAMP:20260419T132749Z
LOCATION:Soccer Complex
SUMMARY:Cancelled - Soccer, Girls Junior Varsity
DESCRIPTION:Soccer, Girls Junior Varsity\nView the full event details here: https://eventpublisher.dudesolutions.com/ritenour/event/soccer-girls-junior-varsity-46/
CATEGORIES:1-Athletics
CONTACT:Drew Lohnes,lohnesd@ritenourschools.org,314-493-6139
CLASS:PUBLIC
UID:718811FB-7481-4632-8BFB-33166F98FD7B
BEGIN:VALARM
TRIGGER:-PT15M
ACTION:DISPLAY
DESCRIPTION:Cancelled - Soccer, Girls Junior Varsity
END:VALARM
END:VEVENT
END:VCALENDAR
