BEGIN:VCALENDAR
VERSION:2.0
METHOD:PUBLISH
PRODID:-//ActiveDataExchange/NEXTGEN V1//EN
BEGIN:VEVENT
ORGANIZER:mailto:lohnesd@ritenourschools.org
DTSTART:20260505T224500Z
DTEND:20260505T234500Z
DTSTAMP:20260419T132749Z
LOCATION:Soccer Complex
SUMMARY:Cancelled - Soccer, Girls Junior Varsity
DESCRIPTION:Soccer, Girls Junior Varsity\nView the full event details here: https://eventpublisher.dudesolutions.com/ritenour/event/soccer-girls-junior-varsity-47/
CATEGORIES:1-Athletics
CONTACT:Drew Lohnes,lohnesd@ritenourschools.org,314-493-6139
CLASS:PUBLIC
UID:76489163-21AB-484C-9862-9073C2A87E0C
BEGIN:VALARM
TRIGGER:-PT15M
ACTION:DISPLAY
DESCRIPTION:Cancelled - Soccer, Girls Junior Varsity
END:VALARM
END:VEVENT
END:VCALENDAR
