BEGIN:VCALENDAR
VERSION:2.0
METHOD:PUBLISH
PRODID:-//ActiveDataExchange/NEXTGEN V1//EN
BEGIN:VEVENT
ORGANIZER:mailto:lohnesd@ritenourschools.org
DTSTART:20260507T224500Z
DTEND:20260507T234500Z
DTSTAMP:20260419T132804Z
LOCATION:Soccer Complex
SUMMARY:Soccer, Girls Junior Varsity
DESCRIPTION:Soccer, Girls Junior Varsity\nView the full event details here: https://eventpublisher.dudesolutions.com/ritenour/event/soccer-girls-junior-varsity-50/
CATEGORIES:1-Athletics
CONTACT:Drew Lohnes,lohnesd@ritenourschools.org
CLASS:PUBLIC
UID:F7F446EF-B86B-4407-86D6-F65C3AA26B8E
BEGIN:VALARM
TRIGGER:-PT15M
ACTION:DISPLAY
DESCRIPTION:Soccer, Girls Junior Varsity
END:VALARM
END:VEVENT
END:VCALENDAR
