BEGIN:VCALENDAR
VERSION:2.0
METHOD:PUBLISH
PRODID:-//ActiveDataExchange/NEXTGEN V1//EN
BEGIN:VEVENT
ORGANIZER:mailto:lohnesd@ritenourschools.org
DTSTART:20260428T224500Z
DTEND:20260428T234500Z
DTSTAMP:20260419T132654Z
LOCATION:Soccer Complex
SUMMARY:Soccer, Girls Junior Varsity
DESCRIPTION:Soccer, Girls Junior Varsity\nView the full event details here: https://eventpublisher.dudesolutions.com/ritenour/event/soccer-girls-junior-varsity-52/
CATEGORIES:1-Athletics
CONTACT:Drew Lohnes,lohnesd@ritenourschools.org
CLASS:PUBLIC
UID:A34985A0-D56D-4DED-80E7-DD45D1337F74
BEGIN:VALARM
TRIGGER:-PT15M
ACTION:DISPLAY
DESCRIPTION:Soccer, Girls Junior Varsity
END:VALARM
END:VEVENT
END:VCALENDAR
