BEGIN:VCALENDAR
VERSION:2.0
METHOD:PUBLISH
PRODID:-//ActiveDataExchange/NEXTGEN V1//EN
BEGIN:VEVENT
ORGANIZER:mailto:lohnesd@ritenourschools.org
DTSTART:20260505T224500Z
DTEND:20260505T234500Z
DTSTAMP:20260419T132749Z
LOCATION:Soccer Complex
SUMMARY:Soccer, Girls Junior Varsity
DESCRIPTION:Soccer, Girls Junior Varsity\nView the full event details here: https://eventpublisher.dudesolutions.com/ritenour/event/soccer-girls-junior-varsity-56/
CATEGORIES:1-Athletics
CONTACT:Drew Lohnes,lohnesd@ritenourschools.org
CLASS:PUBLIC
UID:4E221E24-2C6D-4562-88C9-44822812F62E
BEGIN:VALARM
TRIGGER:-PT15M
ACTION:DISPLAY
DESCRIPTION:Soccer, Girls Junior Varsity
END:VALARM
END:VEVENT
END:VCALENDAR
