BEGIN:VCALENDAR
VERSION:2.0
METHOD:PUBLISH
PRODID:-//ActiveDataExchange/NEXTGEN V1//EN
BEGIN:VEVENT
ORGANIZER:mailto:lohnesd@ritenourschools.org
DTSTART:20260427T211500Z
DTEND:20260427T221500Z
DTSTAMP:20260419T132655Z
LOCATION:Soccer Complex
SUMMARY:Soccer, Girls Varsity
DESCRIPTION:Soccer, Girls Varsity\nView the full event details here: https://eventpublisher.dudesolutions.com/ritenour/event/soccer-girls-varsity-83/
CATEGORIES:1-Athletics
CONTACT:Drew Lohnes,lohnesd@ritenourschools.org,314-493-6139
CLASS:PUBLIC
UID:551F987A-0E54-4AE9-BECA-11BD2625E905
BEGIN:VALARM
TRIGGER:-PT15M
ACTION:DISPLAY
DESCRIPTION:Soccer, Girls Varsity
END:VALARM
END:VEVENT
END:VCALENDAR
