BEGIN:VCALENDAR
VERSION:2.0
METHOD:PUBLISH
PRODID:-//ActiveDataExchange/NEXTGEN V1//EN
BEGIN:VEVENT
ORGANIZER:mailto:lohnesd@ritenourschools.org
DTSTART:20260507T210000Z
DTEND:20260507T220000Z
DTSTAMP:20260419T132655Z
LOCATION:Soccer Complex
SUMMARY:Cancelled - Soccer, Girls Varsity
DESCRIPTION:Soccer, Girls Varsity\nView the full event details here: https://eventpublisher.dudesolutions.com/ritenour/event/soccer-girls-varsity-86/
CATEGORIES:1-Athletics
CONTACT:Drew Lohnes,lohnesd@ritenourschools.org,314-493-6139
CLASS:PUBLIC
UID:F74CBD26-50D4-4D63-BD36-B46C2B83FBD6
BEGIN:VALARM
TRIGGER:-PT15M
ACTION:DISPLAY
DESCRIPTION:Cancelled - Soccer, Girls Varsity
END:VALARM
END:VEVENT
END:VCALENDAR
