BEGIN:VCALENDAR
VERSION:2.0
METHOD:PUBLISH
PRODID:-//ActiveDataExchange/NEXTGEN V1//EN
BEGIN:VEVENT
ORGANIZER:mailto:lohnesd@ritenourschools.org
DTSTART:20260507T210000Z
DTEND:20260507T220000Z
DTSTAMP:20260419T132750Z
LOCATION:Soccer Complex
SUMMARY:Soccer, Girls Varsity
DESCRIPTION:Soccer, Girls Varsity\nView the full event details here: https://eventpublisher.dudesolutions.com/ritenour/event/soccer-girls-varsity-88/
CATEGORIES:1-Athletics
CONTACT:Drew Lohnes,lohnesd@ritenourschools.org
CLASS:PUBLIC
UID:7A86C67E-E7C2-4BCB-933E-D7F1C9C29ACB
BEGIN:VALARM
TRIGGER:-PT15M
ACTION:DISPLAY
DESCRIPTION:Soccer, Girls Varsity
END:VALARM
END:VEVENT
END:VCALENDAR
