BEGIN:VCALENDAR
VERSION:2.0
METHOD:PUBLISH
PRODID:-//ActiveDataExchange/NEXTGEN V1//EN
BEGIN:VEVENT
ORGANIZER:mailto:lohnesd@ritenourschools.org
DTSTART:20260428T210000Z
DTEND:20260428T220000Z
DTSTAMP:20260419T132654Z
LOCATION:Soccer Complex
SUMMARY:Soccer, Girls Varsity
DESCRIPTION:Soccer, Girls Varsity\nView the full event details here: https://eventpublisher.dudesolutions.com/ritenour/event/soccer-girls-varsity-90/
CATEGORIES:1-Athletics
CONTACT:Drew Lohnes,lohnesd@ritenourschools.org
CLASS:PUBLIC
UID:56A9F5CE-0FA1-4465-9212-6F445C71DE49
BEGIN:VALARM
TRIGGER:-PT15M
ACTION:DISPLAY
DESCRIPTION:Soccer, Girls Varsity
END:VALARM
END:VEVENT
END:VCALENDAR
