BEGIN:VCALENDAR
VERSION:2.0
METHOD:PUBLISH
PRODID:-//ActiveDataExchange/NEXTGEN V1//EN
BEGIN:VEVENT
ORGANIZER:mailto:lohnesd@ritenourschools.org
DTSTART:20260424T210000Z
DTEND:20260424T220000Z
DTSTAMP:20260419T132654Z
LOCATION:Soccer Complex
SUMMARY:Soccer, Girls Varsity
DESCRIPTION:Soccer, Girls Varsity\nView the full event details here: https://eventpublisher.dudesolutions.com/ritenour/event/soccer-girls-varsity-94/
CATEGORIES:1-Athletics
CONTACT:Dennis Barbero,lohnesd@ritenourschools.org
CLASS:PUBLIC
UID:2167BC8E-A26B-4D43-8500-10F45B56FE2D
BEGIN:VALARM
TRIGGER:-PT15M
ACTION:DISPLAY
DESCRIPTION:Soccer, Girls Varsity
END:VALARM
END:VEVENT
END:VCALENDAR
