BEGIN:VCALENDAR
VERSION:2.0
METHOD:PUBLISH
PRODID:-//ActiveDataExchange/NEXTGEN V1//EN
BEGIN:VEVENT
ORGANIZER:mailto:weisslerr@ritenourschools.org
DTSTART:20260501T200000Z
DTEND:20260501T213000Z
DTSTAMP:20260419T132339Z
LOCATION:Costilow Field House,Costilow Field House Balcony,Costilow Field House Foyer
SUMMARY:Staff vs Student Volleyball game
DESCRIPTION:Staff vs Student Volleyball game\nView the full event details here: https://eventpublisher.dudesolutions.com/ritenour/event/staff-vs-student-volleyball-game/
CATEGORIES:1-School Event
CONTACT:Rob Weissler,weisslerr@ritenourschools.org,3149101880
CLASS:PUBLIC
UID:3C36CFEF-6F6C-4BEE-9966-55BE8C21E6D6
BEGIN:VALARM
TRIGGER:-PT15M
ACTION:DISPLAY
DESCRIPTION:Staff vs Student Volleyball game
END:VALARM
END:VEVENT
END:VCALENDAR
