BEGIN:VCALENDAR
VERSION:2.0
METHOD:PUBLISH
PRODID:-//ActiveDataExchange/NEXTGEN V1//EN
BEGIN:VEVENT
ORGANIZER:mailto:lohnesd@ritenourschools.org
DTSTART:20260420T210000Z
DTEND:20260420T220000Z
DTSTAMP:20260419T132640Z
LOCATION:Woodson Park Tennis Courts
SUMMARY:Cancelled - Tennis, Boys Varsity
DESCRIPTION:Tennis, Boys Varsity\nView the full event details here: https://eventpublisher.dudesolutions.com/ritenour/event/tennis-boys-varsity-53/
CATEGORIES:1-Athletics
CONTACT:lohnesd@ritenourschools.org
CLASS:PUBLIC
UID:9C32B798-59C3-4A52-876A-CE19A0BE53D4
BEGIN:VALARM
TRIGGER:-PT15M
ACTION:DISPLAY
DESCRIPTION:Cancelled - Tennis, Boys Varsity
END:VALARM
END:VEVENT
END:VCALENDAR
