BEGIN:VCALENDAR
VERSION:2.0
METHOD:PUBLISH
PRODID:-//ActiveDataExchange/NEXTGEN V1//EN
BEGIN:VEVENT
ORGANIZER:mailto:lohnesd@ritenourschools.org
DTSTART:20260421T210000Z
DTEND:20260421T220000Z
DTSTAMP:20260419T132640Z
LOCATION:Woodson Park Tennis Courts
SUMMARY:Tennis, Boys Varsity
DESCRIPTION:Tennis, Boys Varsity\nView the full event details here: https://eventpublisher.dudesolutions.com/ritenour/event/tennis-boys-varsity-54/
CATEGORIES:1-Athletics
CONTACT:Drew Lohnes,lohnesd@ritenourschools.org,314-493-6139
CLASS:PUBLIC
UID:40DA24CF-9586-4841-A308-E15B2D1FCFD0
BEGIN:VALARM
TRIGGER:-PT15M
ACTION:DISPLAY
DESCRIPTION:Tennis, Boys Varsity
END:VALARM
END:VEVENT
END:VCALENDAR
