BEGIN:VCALENDAR
VERSION:2.0
METHOD:PUBLISH
PRODID:-//ActiveDataExchange/NEXTGEN V1//EN
BEGIN:VEVENT
ORGANIZER:mailto:lohnesd@ritenourschools.org
DTSTART:20260423T210000Z
DTEND:20260423T220000Z
DTSTAMP:20260419T132640Z
LOCATION:Woodson Park Tennis Courts
SUMMARY:Cancelled - Tennis, Boys Varsity
DESCRIPTION:Tennis, Boys Varsity\nView the full event details here: https://eventpublisher.dudesolutions.com/ritenour/event/tennis-boys-varsity-55/
CATEGORIES:1-Athletics
CONTACT:Drew Lohnes,lohnesd@ritenourschools.org,314-493-6139
CLASS:PUBLIC
UID:DD132154-69BE-46DA-8D17-C2C19D0C3A6F
BEGIN:VALARM
TRIGGER:-PT15M
ACTION:DISPLAY
DESCRIPTION:Cancelled - Tennis, Boys Varsity
END:VALARM
END:VEVENT
END:VCALENDAR
