BEGIN:VCALENDAR
VERSION:2.0
METHOD:PUBLISH
PRODID:-//ActiveDataExchange/NEXTGEN V1//EN
BEGIN:VEVENT
ORGANIZER:mailto:lohnesd@ritenourschools.org
DTSTART:20260427T210000Z
DTEND:20260427T220000Z
DTSTAMP:20260419T132640Z
LOCATION:Woodson Park Tennis Courts
SUMMARY:Tennis, Boys Varsity
DESCRIPTION:Tennis, Boys Varsity\nView the full event details here: https://eventpublisher.dudesolutions.com/ritenour/event/tennis-boys-varsity-56/
CATEGORIES:1-Athletics
CONTACT:Drew Lohnes,lohnesd@ritenourschools.org
CLASS:PUBLIC
UID:76724904-4970-4E2D-A96F-A8C313EE2A4F
BEGIN:VALARM
TRIGGER:-PT15M
ACTION:DISPLAY
DESCRIPTION:Tennis, Boys Varsity
END:VALARM
END:VEVENT
END:VCALENDAR
