BEGIN:VCALENDAR
VERSION:2.0
METHOD:PUBLISH
PRODID:-//ActiveDataExchange/NEXTGEN V1//EN
BEGIN:VEVENT
ORGANIZER:mailto:lohnesd@ritenourschools.org
DTSTART:20260505T210000Z
DTEND:20260505T220000Z
DTSTAMP:20260419T132640Z
LOCATION:Woodson Park Tennis Courts
SUMMARY:Tennis, Boys Varsity
DESCRIPTION:Tennis, Boys Varsity\nView the full event details here: https://eventpublisher.dudesolutions.com/ritenour/event/tennis-boys-varsity-57/
CATEGORIES:1-Athletics
CONTACT:Drew Lohnes,lohnesd@ritenourschools.org,314-493-6139
CLASS:PUBLIC
UID:B0E9430E-E2C5-410A-A56C-EAD4D5B8DE2B
BEGIN:VALARM
TRIGGER:-PT15M
ACTION:DISPLAY
DESCRIPTION:Tennis, Boys Varsity
END:VALARM
END:VEVENT
END:VCALENDAR
