BEGIN:VCALENDAR
VERSION:2.0
METHOD:PUBLISH
PRODID:-//ActiveDataExchange/NEXTGEN V1//EN
BEGIN:VEVENT
ORGANIZER:mailto:lohnesd@ritenourschools.org
DTSTART:20260427T211500Z
DTEND:20260427T214500Z
DTSTAMP:20260419T132615Z
LOCATION:Costilow Field House
SUMMARY:Cancelled - Volleyball, Boys Junior Varsity
DESCRIPTION:Volleyball, Boys Junior Varsity\nView the full event details here: https://eventpublisher.dudesolutions.com/ritenour/event/volleyball-boys-junior-varsity-46/
CATEGORIES:1-Athletics
CONTACT:Drew Lohnes,lohnesd@ritenourschools.org,314-493-6139
CLASS:PUBLIC
UID:59CB6F47-958E-4A71-8B13-74E5C112B250
BEGIN:VALARM
TRIGGER:-PT15M
ACTION:DISPLAY
DESCRIPTION:Cancelled - Volleyball, Boys Junior Varsity
END:VALARM
END:VEVENT
END:VCALENDAR
